BEGIN:VCALENDAR
VERSION:2.0
PRODID:-//Chiesa Cristiana Biblica VENEZIA - ECPv6.15.20//NONSGML v1.0//EN
CALSCALE:GREGORIAN
METHOD:PUBLISH
X-WR-CALNAME:Chiesa Cristiana Biblica VENEZIA
X-ORIGINAL-URL:https://ccbvenezia.eu
X-WR-CALDESC:Eventi per Chiesa Cristiana Biblica VENEZIA
REFRESH-INTERVAL;VALUE=DURATION:PT1H
X-Robots-Tag:noindex
X-PUBLISHED-TTL:PT1H
BEGIN:VTIMEZONE
TZID:UTC
BEGIN:STANDARD
TZOFFSETFROM:+0000
TZOFFSETTO:+0000
TZNAME:UTC
DTSTART:20180101T000000
END:STANDARD
END:VTIMEZONE
BEGIN:VEVENT
DTSTART;TZID=UTC:20210211T000000
DTEND;TZID=UTC:20210211T235900
DTSTAMP:20260424T160904
CREATED:20150805T114026Z
LAST-MODIFIED:20210211T225135Z
UID:207-1613001600-1613087940@ccbvenezia.eu
SUMMARY:il buon pastore
DESCRIPTION:Salmo 23\n1 Il SIGNORE è il mio pastore: nulla mi manca.\n2 Egli mi fa riposare in verdeggianti pascoli\,\nmi guida lungo le acque calme.\n3 Egli mi ristora l’anima\,\nmi conduce per sentieri di giustizia\,\nper amore del suo nome.\n4 Quand’anche camminassi nella valle dell’ombra della morte\,\nio non temerei alcun male\,\nperché tu sei con me;\nil tuo bastone e la tua verga mi danno sicurezza.\n5 Per me tu imbandisci la tavola\,\nsotto gli occhi dei miei nemici;\ncospargi di olio il mio capo;\nla mia coppa trabocca.\n6 Certo\, beni e bontà m’accompagneranno\ntutti i giorni della mia vita;\ne io abiterò nella casa del SIGNORE\nper lunghi giorni.
URL:https://ccbvenezia.eu/event/international-christian-seminar/
LOCATION:Santa Maria di Sala (VE)\, via Salgari\, 4\, Santa Maria di Sala (VE)\, Italia
CATEGORIES:incontri
ATTACH;FMTTYPE=image/jpeg:https://ccbvenezia.eu/wp-content/uploads/2015/08/the-good-sheperd.jpg
ORGANIZER;CN="Chiesa Cristiana Biblica":MAILTO:ccb.venezia@gmail.com
END:VEVENT
BEGIN:VEVENT
DTSTART;VALUE=DATE:20210208
DTEND;VALUE=DATE:20210209
DTSTAMP:20260424T160904
CREATED:20150805T113010Z
LAST-MODIFIED:20210208T002519Z
UID:201-1612742400-1612828799@ccbvenezia.eu
SUMMARY:consulenza cristiana
DESCRIPTION:Descriptionse hai bisogno di consulenza cristiana\, non esitare a contattarci.
URL:https://ccbvenezia.eu/event/safe-harbor-christian-counseling/
LOCATION:santa maria di sala (VE)\, via Salgari\, 4\, Santa Maria di Sala (VE)\, Italia
CATEGORIES:incontri
ATTACH;FMTTYPE=image/jpeg:https://ccbvenezia.eu/wp-content/uploads/2015/08/consulenza-pre-matrimoniale.jpg
ORGANIZER;CN="Chiesa Cristiana Biblica":MAILTO:ccb.venezia@gmail.com
END:VEVENT
BEGIN:VEVENT
DTSTART;VALUE=DATE:20200202
DTEND;VALUE=DATE:20200216
DTSTAMP:20260424T160904
CREATED:20150805T113151Z
LAST-MODIFIED:20210213T172914Z
UID:202-1580601600-1581811199@ccbvenezia.eu
SUMMARY:WORK IN PROGRESS
DESCRIPTION:PAGINA NON ANCORA ALLESTITA \nWORK IN PROGRESS
URL:https://ccbvenezia.eu/event/christian-leadership-seminar/
LOCATION:Santa Maria di Sala (VE)\, via Salgari\, 4\, Santa Maria di Sala (VE)\, Italia
CATEGORIES:incontri
ATTACH;FMTTYPE=image/png:https://ccbvenezia.eu/wp-content/uploads/2015/08/WORK-IN-PROGRESS.png
ORGANIZER;CN="Chiesa Cristiana Biblica":MAILTO:ccb.venezia@gmail.com
END:VEVENT
BEGIN:VEVENT
DTSTART;VALUE=DATE:20200111
DTEND;VALUE=DATE:20200121
DTSTAMP:20260424T160904
CREATED:20150805T113436Z
LAST-MODIFIED:20210213T173043Z
UID:203-1578700800-1579564799@ccbvenezia.eu
SUMMARY:WORK IN PROGRESS 2
DESCRIPTION:PAGINA IN ALLESTIMENTO \nWORK IN PROGRESS
URL:https://ccbvenezia.eu/event/the-five-points-of-gospel-truth/
LOCATION:Santa Maria di Sala (VE)\, via Salgari\, 4\, Santa Maria di Sala (VE)\, Italia
CATEGORIES:incontri
ATTACH;FMTTYPE=image/png:https://ccbvenezia.eu/wp-content/uploads/2015/08/WORK-IN-PROGRESS.png
ORGANIZER;CN="Chiesa Cristiana Biblica":MAILTO:ccb.venezia@gmail.com
END:VEVENT
BEGIN:VEVENT
DTSTART;VALUE=DATE:20191007
DTEND;VALUE=DATE:20191024
DTSTAMP:20260424T160904
CREATED:20150805T114446Z
LAST-MODIFIED:20210213T173356Z
UID:208-1570406400-1571875199@ccbvenezia.eu
SUMMARY:WORK IN PROGRESS 5
DESCRIPTION:PAGINA IN ALLESTIMENTO \nWORK IN PROGRESS
URL:https://ccbvenezia.eu/event/christian-theology-seminar/
LOCATION:Santa Maria di Sala (VE)\, via Salgari\, 4\, Santa Maria di Sala (VE)\, Italia
CATEGORIES:incontri
ATTACH;FMTTYPE=image/png:https://ccbvenezia.eu/wp-content/uploads/2015/08/WORK-IN-PROGRESS.png
ORGANIZER;CN="Chiesa Cristiana Biblica":MAILTO:ccb.venezia@gmail.com
END:VEVENT
BEGIN:VEVENT
DTSTART;VALUE=DATE:20190907
DTEND;VALUE=DATE:20190922
DTSTAMP:20260424T160904
CREATED:20150905T114640Z
LAST-MODIFIED:20210213T173448Z
UID:209-1567814400-1569110399@ccbvenezia.eu
SUMMARY:WORK IN PROGRESS 6
DESCRIPTION:PAGINA IN ALLESTIMENTO \nWORK IN PROGRESS
URL:https://ccbvenezia.eu/event/sheepdog-safety-training/
LOCATION:Santa Maria di Sala (VE)\, via Salgari\, 4\, Santa Maria di Sala (VE)\, Italia
CATEGORIES:incontri
ATTACH;FMTTYPE=image/png:https://ccbvenezia.eu/wp-content/uploads/2015/08/WORK-IN-PROGRESS.png
ORGANIZER;CN="Chiesa Cristiana Biblica":MAILTO:ccb.venezia@gmail.com
END:VEVENT
END:VCALENDAR